BEGIN:VCALENDAR
VERSION:2.0
PRODID:-//ChamberMaster//Event Calendar 2.0//EN
METHOD:PUBLISH
X-PUBLISHED-TTL:P3D
REFRESH-INTERVAL:P3D
CALSCALE:GREGORIAN
BEGIN:VEVENT
DTSTART:20230624T150000Z
DTEND:20230624T163000Z
X-MICROSOFT-CDO-ALLDAYEVENT:FALSE
SUMMARY:Youth Yoga
DESCRIPTION:Come join Redbloom Instructors\, Jennifer Jones\, and Jordan Rios for a creative movement-based class that promotes learning how to channel youthful energy positively\, share fun with others\, and develop healthy habits. This class will feature both earth and aerial yoga in a non-competitive environment.\n\n\n\nThis class is designed for Kids ages 8-12.
X-ALT-DESC;FMTTYPE=text/html:<span style="background-color:rgba(255\, 255\, 255\, 0.85)\; color:rgb(68\, 68\, 68)\; font-family:source sans pro\,arial\,helvetica\,sans-serif\; font-size:14px">Come join Redbloom Instructors\, Jennifer Jones\, and Jordan Rios for a creative movement-based class that promotes learning how to channel youthful energy positively\, share fun with others\, and develop healthy habits. This class will feature both earth and aerial yoga in a non-competitive environment.</span><br />\n<br />\n<span style="background-color:rgba(255\, 255\, 255\, 0.85)\; color:rgb(68\, 68\, 68)\; font-family:source sans pro\,arial\,helvetica\,sans-serif\; font-size:14px">This class is designed for Kids ages 8-12.</span>
LOCATION:
UID:e.634.350903
SEQUENCE:3
DTSTAMP:20260421T220545Z
URL:https://business.mt-pleasant.net/events/details/youth-yoga-350903
END:VEVENT

END:VCALENDAR
