BEGIN:VCALENDAR
VERSION:2.0
PRODID:-//ChamberMaster//Event Calendar 2.0//EN
METHOD:PUBLISH
X-PUBLISHED-TTL:P3D
REFRESH-INTERVAL:P3D
CALSCALE:GREGORIAN
BEGIN:VEVENT
DTSTART:20261112T140000Z
DTEND:20261112T153000Z
X-MICROSOFT-CDO-ALLDAYEVENT:FALSE
SUMMARY:Women in Business: Life Changes of a Female Leader
DESCRIPTION:Women in Business: Life Changes of a Female Leader\n\n\n\nRegistration required! Registration will close on November 5th.\n\n\n\nOur 2026 Women in Business series concludes with our fourth session\, Life Changes of a Female Leader!\n\n\n\nThis session examines the evolving experiences of women through holistic\, medical\, and mental health perspectives\, helping you understand how emotions\, values\, and lifestyles shift across personal and professional milestones. Join us for this insightful conversation and register today!\n\n\n\n*Speaker information coming soon!\n\n\n\nEvent Details\n\n  Thursday\, November 12th\n\n  9:00 - 10:30 am\n\n Mid Michigan College - Community Room\n\n  $15 - Member Price\n\n      $20 - Non-Member Price
X-ALT-DESC;FMTTYPE=text/html:<br />\n<span style="font-size:22px\;"><span style="color: rgb(0\, 0\, 0)\; font-family: arial\; font-variant-ligatures: none\; font-weight: 700\; white-space-collapse: preserve\;">Women in Business: Life Changes of a Female Leader</span></span><br />\n<br />\n<span style="font-family:arial\;"><span style="font-size:18px\;"><em><span style="color:#FF0000\;"><strong><span class="TextRun SCXW109981971 BCX0" data-contrast="auto" lang="EN-US" style="-webkit-user-drag: none\; -webkit-tap-highlight-color: transparent\; margin: 0px\; padding: 0px\; user-select: text\; font-style: normal\; white-space-collapse: preserve\; line-height: 20.925px\; font-variant-ligatures: none !important\;" xml:lang="EN-US">Registration required! Registration will close on November 5th.</span></strong></span></em><br />\n<br />\n<span class="TextRun SCXW109981971 BCX0" data-contrast="auto" lang="EN-US" style="-webkit-user-drag: none\; -webkit-tap-highlight-color: transparent\; margin: 0px\; padding: 0px\; user-select: text\; color: rgb(0\, 0\, 0)\; font-style: normal\; white-space-collapse: preserve\; line-height: 20.925px\; font-variant-ligatures: none !important\;" xml:lang="EN-US">Our 2026 Women in Business series concludes wi</span><span class="TextRun SCXW109981971 BCX0" data-contrast="auto" lang="EN-US" style="-webkit-user-drag: none\; -webkit-tap-highlight-color: transparent\; margin: 0px\; padding: 0px\; user-select: text\; color: rgb(0\, 0\, 0)\; font-style: normal\; white-space-collapse: preserve\; line-height: 20.925px\; font-variant-ligatures: none !important\;" xml:lang="EN-US">th our fourth session\, </span><span class="TextRun SCXW109981971 BCX0" data-contrast="auto" lang="EN-US" style="-webkit-user-drag: none\; -webkit-tap-highlight-color: transparent\; margin: 0px\; padding: 0px\; user-select: text\; color: rgb(0\, 0\, 0)\; font-style: normal\; white-space-collapse: preserve\; line-height: 20.925px\; font-weight: bold\; font-variant-ligatures: none !important\;" xml:lang="EN-US">Life Changes of a Female Leader!</span><br />\n<br />\n<span class="TextRun SCXW147028416 BCX0" data-contrast="auto" lang="EN-US" style="-webkit-user-drag: none\; -webkit-tap-highlight-color: transparent\; margin: 0px\; padding: 0px\; user-select: text\; color: rgb(0\, 0\, 0)\; font-style: normal\; white-space-collapse: preserve\; line-height: 20.925px\; font-variant-ligatures: none !important\;" xml:lang="EN-US">This session examines the evolving experiences of women through </span><span class="TextRun SCXW147028416 BCX0" data-contrast="auto" lang="EN-US" style="-webkit-user-drag: none\; -webkit-tap-highlight-color: transparent\; margin: 0px\; padding: 0px\; user-select: text\; color: rgb(0\, 0\, 0)\; font-style: normal\; white-space-collapse: preserve\; line-height: 20.925px\; font-weight: bold\; font-variant-ligatures: none !important\;" xml:lang="EN-US">holistic\, medical\, and mental health perspectives</span><span class="TextRun SCXW147028416 BCX0" data-contrast="auto" lang="EN-US" style="-webkit-user-drag: none\; -webkit-tap-highlight-color: transparent\; margin: 0px\; padding: 0px\; user-select: text\; color: rgb(0\, 0\, 0)\; font-style: normal\; white-space-collapse: preserve\; line-height: 20.925px\; font-variant-ligatures: none !important\;" xml:lang="EN-US">\, helping you understand how emotions\, values\, and lifestyles shift across personal and professional milestones.</span><span class="EOP SCXW147028416 BCX0" data-ccp-props="{&quot\;134233117&quot\;:false\,&quot\;134233118&quot\;:false\,&quot\;335551550&quot\;:0\,&quot\;335551620&quot\;:0\,&quot\;335559738&quot\;:240\,&quot\;335559739&quot\;:240}" style="-webkit-user-drag: none\; -webkit-tap-highlight-color: transparent\; margin: 0px\; padding: 0px\; user-select: text\; color: rgb(0\, 0\, 0)\; white-space-collapse: preserve\; line-height: 20.925px\;">&nbsp\;</span><span class="TextRun SCXW183787618 BCX0" data-contrast="auto" lang="EN-US" style="-webkit-user-drag: none\; -webkit-tap-highlight-color: transparent\; margin: 0px\; padding: 0px\; user-select: text\; color: rgb(0\, 0\, 0)\; font-style: normal\; white-space-collapse: preserve\; line-height: 20.925px\; font-weight: bold\; font-variant-ligatures: none !important\;" xml:lang="EN-US">Join us for this insightful conversation and register today!</span><br />\n<br />\n<span style="color:#000000\;"><i>*Speaker information coming soon!</i></span></span></span><br />\n<br />\n<span style="color:#000000\;"><span style="font-family:arial\;"><span style="font-size:18px\;"><strong>Event Details</strong><br />\n&#128197\; Thursday\, November 12th<br />\n&#128336\; 9:00 - 10:30 am<br />\n&#128205\;Mid Michigan College - Community Room</span></span></span><br />\n<span style="color:#000000\;"><span style="font-family:arial\;"><span style="font-size:18px\;">&#128181\; $15 - Member Price<br />\n&nbsp\; &nbsp\; &nbsp\; $20 - Non-Member Price</span></span></span><br />\n<br />\n<br />\n&nbsp\;
LOCATION:Mid Michigan College - Community Room 2600 S. Summerton Rd Mt. Pleasant\, MI 48858
UID:e.634.352178
SEQUENCE:3
DTSTAMP:20260424T154216Z
URL:https://business.mt-pleasant.net/events/details/women-in-business-life-changes-of-a-female-leader-352178
END:VEVENT

END:VCALENDAR
