BEGIN:VCALENDAR
VERSION:2.0
PRODID:-//ChamberMaster//Event Calendar 2.0//EN
METHOD:PUBLISH
X-PUBLISHED-TTL:P3D
REFRESH-INTERVAL:P3D
CALSCALE:GREGORIAN
BEGIN:VEVENT
DTSTART:20191013T180000Z
DTEND:20191013T200000Z
X-MICROSOFT-CDO-ALLDAYEVENT:FALSE
SUMMARY:Member Hosted Event: MISS JULIE\, presented by CMU University Theatre
DESCRIPTION:MISS JULIE: Written by August Strindberg\, Adapted by Howard Brenton\, Directed by Steve Berglund\n\n\nA provocative and riveting tale of an unexpected love that crosses forbidden boundaries. This stark and penetrating drama explores the turbulent war of wills between a well-to-do young woman and her father's servant.  (*Includes mature language\, content and/or violence)\n\n\n\n	Theatre-on-the-Side (next to Bush Theatre)\n	Includes mature themes and language\n	Limited\, general admission seating available\n	Latecomers will not be seated\n	TICKETS: Available through CMU Ticket Central: online below | 989-774-3045 | CMU Events Center\n	\n		October 3 at 7:30 pm\n		October 4 at 7:30 pm\n		October 5 at 7:30 pm\n		October 6 at 2:00 pm\n		October 10 at 7:30 pm\n		October 11 at 7:30 pm\n		October 12 at 7:30 pm\n		October 13 at 2:00 pm
X-ALT-DESC;FMTTYPE=text/html:<div>\n<p><strong><span style="font-size:12px">MISS JULIE:&nbsp\;</span></strong><span style="font-size:12px">Written&nbsp\;by August Strindberg\, Adapted by Howard Brenton\, Directed by Steve Berglund</span></p>\n</div>\n\n<p><span style="color:rgb(0\, 0\, 0)\; font-size:1em">A provocative and riveting tale of an unexpected love that crosses forbidden boundaries. This stark and penetrating&nbsp\;</span><span style="color:rgb(0\, 0\, 0)\; font-family:oxygen\,sans-serif\; font-size:1em">drama explores the turbulent war of wills between a well-to-do young woman and her father&rsquo\;s servant.&nbsp\; (*Includes mature language\, content and/or violence)</span></p>\n\n<div>\n<ul>\n	<li><a href="https://www.google.com/maps/place/Bush+Theatre\,+Mt+Pleasant\,+MI+48858/@43.5872555\,-84.7746038\,17z/data=!3m1!4b1!4m5!3m4!1s0x88221b52dc9f6faf:0xeb1ece6feb40b44a!8m2!3d43.5872555!4d-84.7724151" target="_blank">Theatre-on-the-Side</a>&nbsp\;(next to Bush Theatre)</li>\n	<li>Includes mature themes and language</li>\n	<li>Limited\, general admission seating available</li>\n	<li>Latecomers will not be seated</li>\n	<li>TICKETS: Available through&nbsp\;CMU Ticket&nbsp\;Central: online below | 989-774-3045 | CMU Events Center\n	<ul>\n		<li><span style="color:rgb(0\, 0\, 0)\; font-size:1em"><a href="https://mpv.tickets.com/?agency=CMUV_PL_MPV&amp\;orgId=54289&amp\;pid=8739222" style="box-sizing: border-box\; color: rgb(106\, 0\, 50)\; background: 0px 0px\;">October 3 at 7:30 pm</a></span></li>\n		<li><span style="color:rgb(0\, 0\, 0)\; font-size:1em"><a href="https://mpv.tickets.com/?agency=CMUV_PL_MPV&amp\;orgId=54289&amp\;pid=8739225" style="box-sizing: border-box\; color: rgb(106\, 0\, 50)\; background: 0px 0px\;">October 4 at 7:30 pm</a></span></li>\n		<li><span style="color:rgb(0\, 0\, 0)\; font-size:1em"><a href="https://mpv.tickets.com/?agency=CMUV_PL_MPV&amp\;orgId=54289&amp\;pid=8739227" style="box-sizing: border-box\; color: rgb(106\, 0\, 50)\; background: 0px 0px\;">October 5 at 7:30 pm</a></span></li>\n		<li><span style="color:rgb(0\, 0\, 0)\; font-size:1em"><a href="https://mpv.tickets.com/?agency=CMUV_PL_MPV&amp\;orgId=54289&amp\;pid=8739228" style="box-sizing: border-box\; color: rgb(106\, 0\, 50)\; background: 0px 0px\;">October 6 at 2:00 pm</a></span></li>\n		<li><span style="color:rgb(0\, 0\, 0)\; font-size:1em"><a href="https://mpv.tickets.com/?agency=CMUV_PL_MPV&amp\;orgId=54289&amp\;pid=8739229" style="box-sizing: border-box\; color: rgb(106\, 0\, 50)\; background: 0px 0px\;">October 10 at 7:30 pm</a></span></li>\n		<li><span style="color:rgb(0\, 0\, 0)\; font-size:1em"><a href="https://mpv.tickets.com/?agency=CMUV_PL_MPV&amp\;orgId=54289&amp\;pid=8739230" style="box-sizing: border-box\; color: rgb(106\, 0\, 50)\; background: 0px 0px\;">October 11 at 7:30 pm</a></span></li>\n		<li><span style="color:rgb(0\, 0\, 0)\; font-size:1em"><a href="https://mpv.tickets.com/?agency=CMUV_PL_MPV&amp\;orgId=54289&amp\;pid=8739231" style="box-sizing: border-box\; color: rgb(106\, 0\, 50)\; background: 0px 0px\;">October 12 at 7:30 pm</a></span></li>\n		<li><span style="color:rgb(0\, 0\, 0)\; font-size:1em"><a href="https://mpv.tickets.com/?agency=CMUV_PL_MPV&amp\;orgId=54289&amp\;pid=8739232" style="box-sizing: border-box\; color: rgb(106\, 0\, 50)\; background: 0px 0px\;">October 13 at 2:00 pm</a></span></li>\n	</ul>\n	</li>\n</ul>\n</div>\n
LOCATION:Central Michigan University\, Theatre-on-the-Side (located adjacent to Bush Theatre)
UID:e.634.348477
SEQUENCE:3
DTSTAMP:20260420T174339Z
URL:https://business.mt-pleasant.net/events/details/miss-julie-presented-by-cmu-university-theatre-10-13-2019-348477
END:VEVENT

END:VCALENDAR
