BEGIN:VCALENDAR
VERSION:2.0
PRODID:-//ChamberMaster//Event Calendar 2.0//EN
METHOD:PUBLISH
X-PUBLISHED-TTL:P3D
REFRESH-INTERVAL:P3D
CALSCALE:GREGORIAN
BEGIN:VEVENT
DTSTART:20230625T180000Z
DTEND:20230625T200000Z
X-MICROSOFT-CDO-ALLDAYEVENT:FALSE
SUMMARY:Member Hosted Event: Nature Play!
DESCRIPTION:It's time to play outdoors! Whether we're making pies in the mud kitchen\, pretending to be animals\, lounging in hammocks or creating nature art\, this hour of play is sure to engage everyone! Caregivers must remain with children during this program and are encouraged to actively play alongside the children in their care. This program will be facilitated by a CNC staff member. Please meet in The Woods Nature Play Area near Arbury Trail.\n\nFREE l All Ages\, under 18 w/adult
X-ALT-DESC;FMTTYPE=text/html:<p><span style="font-family:verdana\,geneva\,sans-serif">It&rsquo\;s time to play outdoors! Whether we&rsquo\;re making pies in the mud kitchen\, pretending to be animals\, lounging in hammocks or creating nature art\, this hour of play is sure to engage everyone! Caregivers must remain with children during this program and are encouraged to actively play alongside the children in their care. This program will be facilitated by a CNC staff member. Please meet in The Woods Nature Play Area near Arbury Trail.</span></p>\n\n<p><em><span style="font-family:verdana\,geneva\,sans-serif">FREE l All Ages\, under 18 w/adult</span></em></p>\n
LOCATION:Chippewa Nature Center 400 S Badour Rd Midland\, MI 48640
UID:e.634.350934
SEQUENCE:3
DTSTAMP:20260422T121722Z
URL:https://business.mt-pleasant.net/events/details/member-hosted-event-nature-play-06-25-2023-350934
END:VEVENT

END:VCALENDAR
