BEGIN:VCALENDAR
VERSION:2.0
PRODID:-//ChamberMaster//Event Calendar 2.0//EN
METHOD:PUBLISH
X-PUBLISHED-TTL:P3D
REFRESH-INTERVAL:P3D
CALSCALE:GREGORIAN
BEGIN:VEVENT
DTSTART:20190921T120000Z
DTEND:20190921T160000Z
X-MICROSOFT-CDO-ALLDAYEVENT:FALSE
SUMMARY:Member Hosted Event: 10th Annual HIV/AIDS Rainbow Run/Walk
DESCRIPTION:Central Michigan District Health Department is hosting the 10th Annual HIV/AIDS Rainbow Run/Walk at Island Park on Saturday\, September 21 at 9:00am (Registration at 8:00am).
X-ALT-DESC;FMTTYPE=text/html:Central Michigan District Health Department is hosting the 10th Annual HIV/AIDS Rainbow Run/Walk at Island Park on Saturday\, September 21 at 9:00am (Registration at 8:00am).
LOCATION:Island Park 331 N Main St. Mount Pleasant\, MI
UID:e.634.348452
SEQUENCE:3
DTSTAMP:20260422T123745Z
URL:https://business.mt-pleasant.net/events/details/member-hosted-event-10th-annual-hiv-aids-rainbow-run-walk-348452
END:VEVENT

END:VCALENDAR
